BEGIN:VCALENDAR
VERSION:2.0
PRODID:-//ceuscampus//ceuscampus.de//DE
CALSCALE:GREGORIAN
BEGIN:VEVENT
DTSTART:20260619T134500
DTEND:20260621T171500
LOCATION:
DTSTAMP:20260420T131249
SUMMARY:2. Interdisziplinärer Aufbaukurs: «Abdomen und Retroperitoneum, Thorax, FAST und Niere»
URL;VALUE=URI:https://ceuscampus.de/?p=4909
DESCRIPTION:https://ceuscampus.de/?p=4909
UID:20260420T131249-20260619T134500-
END:VEVENT
END:VCALENDAR