BEGIN:VCALENDAR
VERSION:2.0
PRODID:-//ceuscampus//ceuscampus.de//DE
CALSCALE:GREGORIAN
BEGIN:VEVENT
DTSTART:20260605T134500
DTEND:20260622T180000
LOCATION:
DTSTAMP:20260420T142500
SUMMARY:30. Interdisziplinärer Grundkurs: «Abdomen und Retroperitoneum, Thorax, FAST und Niere»
URL;VALUE=URI:https://ceuscampus.de/?p=4914
DESCRIPTION:https://ceuscampus.de/?p=4914
UID:20260420T142500-20260605T134500-
END:VEVENT
END:VCALENDAR