BEGIN:VCALENDAR
VERSION:2.0
PRODID:-//ceuscampus//ceuscampus.de//DE
CALSCALE:GREGORIAN
BEGIN:VEVENT
DTSTART:20260731T000000
DTEND:20260802T180000
LOCATION:
DTSTAMP:20260420T130821
SUMMARY:32. Interdisziplinärer Grundkurs: «Abdomen und Retroperitoneum, Thorax, FAST und Niere»
URL;VALUE=URI:https://ceuscampus.de/?p=5056
DESCRIPTION:https://ceuscampus.de/?p=5056
UID:20260420T130821-20260731T000000-
END:VEVENT
END:VCALENDAR