BEGIN:VCALENDAR
VERSION:2.0
PRODID:-//ceuscampus//ceuscampus.de//DE
CALSCALE:GREGORIAN
BEGIN:VEVENT
DTSTART:20260918T134500
DTEND:20260920T180000
LOCATION:
DTSTAMP:20260420T130821
SUMMARY:33. Interdisziplinärer Grundkurs: «Abdomen und Retroperitoneum, Thorax, FAST und Niere»
URL;VALUE=URI:https://ceuscampus.de/?p=5061
DESCRIPTION:https://ceuscampus.de/?p=5061
UID:20260420T130821-20260918T134500-
END:VEVENT
END:VCALENDAR