BEGIN:VCALENDAR
VERSION:2.0
PRODID:-//ceuscampus//ceuscampus.de//DE
CALSCALE:GREGORIAN
BEGIN:VEVENT
DTSTART:20260724T134500
DTEND:20260726T180000
LOCATION:
DTSTAMP:20260420T131131
SUMMARY:Bad Reichenhaller Sonografie-Kurse
URL;VALUE=URI:https://ceuscampus.de/?p=5013
DESCRIPTION:https://ceuscampus.de/?p=5013
UID:20260420T131131-20260724T134500-
END:VEVENT
END:VCALENDAR