BEGIN:VCALENDAR
VERSION:2.0
PRODID:-//ceuscampus//ceuscampus.de//DE
CALSCALE:GREGORIAN
BEGIN:VEVENT
DTSTART:20261216T170000
DTEND:20261216T200000
LOCATION:
DTSTAMP:20260420T131309
SUMMARY:CEUS-Fortbildung „Wie würden Sie entscheiden?“ Themenschwerpunkt: Leberkarzinome IV
URL;VALUE=URI:https://ceuscampus.de/?p=4947
DESCRIPTION:https://ceuscampus.de/?p=4947
UID:20260420T131309-20261216T170000-
END:VEVENT
END:VCALENDAR