BEGIN:VCALENDAR
VERSION:2.0
PRODID:-//ceuscampus//ceuscampus.de//DE
CALSCALE:GREGORIAN
BEGIN:VEVENT
DTSTART:20260507T183000
DTEND:20260507T203000
LOCATION:
DTSTAMP:20260420T125511
SUMMARY:Workshop 2: CEUS – Pathophysiologie der Leberperfusion und benigne Leberbefunde Teil 2
URL;VALUE=URI:https://ceuscampus.de/?p=4963
DESCRIPTION:https://ceuscampus.de/?p=4963
UID:20260420T125511-20260507T183000-
END:VEVENT
END:VCALENDAR