BEGIN:VCALENDAR
VERSION:2.0
PRODID:-//ceuscampus//ceuscampus.de//DE
CALSCALE:GREGORIAN
BEGIN:VEVENT
DTSTART:20260617T183000
DTEND:20260617T203000
LOCATION:
DTSTAMP:20260420T142620
SUMMARY:CEUS Practinar Modul 1
URL;VALUE=URI:https://ceuscampus.de/?p=4967
DESCRIPTION:https://ceuscampus.de/?p=4967
UID:20260420T142620-20260617T183000-
END:VEVENT
END:VCALENDAR