BEGIN:VCALENDAR
VERSION:2.0
PRODID:-//ceuscampus//ceuscampus.de//DE
CALSCALE:GREGORIAN
BEGIN:VEVENT
DTSTART:
DTEND:
LOCATION:
DTSTAMP:20260420T125942
SUMMARY:Kontrastecho bzw. CEUS in verschiedenen Anwendungsbereichen
URL;VALUE=URI:https://ceuscampus.de/?p=288
DESCRIPTION:https://ceuscampus.de/?p=288
UID:20260420T125942--
END:VEVENT
END:VCALENDAR