BEGIN:VCALENDAR
VERSION:2.0
PRODID:-//ceuscampus//ceuscampus.de//DE
CALSCALE:GREGORIAN
BEGIN:VEVENT
DTSTART:20260530T110000
DTEND:20260530T140000
LOCATION:
DTSTAMP:20260420T125537
SUMMARY:Kontrastmittel-verstärkte Sonographie der Milz
URL;VALUE=URI:https://ceuscampus.de/?p=4952
DESCRIPTION:https://ceuscampus.de/?p=4952
UID:20260420T125537-20260530T110000-
END:VEVENT
END:VCALENDAR