BEGIN:VCALENDAR
VERSION:2.0
PRODID:-//ceuscampus//ceuscampus.de//DE
CALSCALE:GREGORIAN
BEGIN:VEVENT
DTSTART:20260911T130000
DTEND:20260911T180000
LOCATION:
DTSTAMP:20260420T130807
SUMMARY:Kontrastmitteleinsatz in der Echokardiografie &#8211; Dr. Ziegler SRH Kliniken Sigmaringen
URL;VALUE=URI:https://ceuscampus.de/?p=5119
DESCRIPTION:https://ceuscampus.de/?p=5119
UID:20260420T130807-20260911T130000-
END:VEVENT
END:VCALENDAR