BEGIN:VCALENDAR
VERSION:2.0
PRODID:-//ceuscampus//ceuscampus.de//DE
CALSCALE:GREGORIAN
BEGIN:VEVENT
DTSTART:20260611T183000
DTEND:20260611T203000
LOCATION:
DTSTAMP:20260420T131321
SUMMARY:Workshop 3: Maligne Tumoren in der CEUS (Metastasen / HCC / CCC) und wichtige Differentialdiagnosen
URL;VALUE=URI:https://ceuscampus.de/?p=4965
DESCRIPTION:https://ceuscampus.de/?p=4965
UID:20260420T131321-20260611T183000-
END:VEVENT
END:VCALENDAR