BEGIN:VCALENDAR
VERSION:2.0
PRODID:-//ceuscampus//ceuscampus.de//DE
CALSCALE:GREGORIAN
BEGIN:VEVENT
DTSTART:20260506T180000
DTEND:20260506T200000
LOCATION:
DTSTAMP:20260423T142700
SUMMARY:Refresherkurs Kontrastechokardiographie –  Indikationen, Bildeinstellungen &#038; mehr
URL;VALUE=URI:https://ceuscampus.de/?p=5133
DESCRIPTION:https://ceuscampus.de/?p=5133
UID:20260423T142700-20260506T180000-
END:VEVENT
END:VCALENDAR