BEGIN:VCALENDAR
VERSION:2.0
PRODID:-//ceuscampus//ceuscampus.de//DE
CALSCALE:GREGORIAN
BEGIN:VEVENT
DTSTART:
DTEND:
LOCATION:
DTSTAMP:20260420T142144
SUMMARY:Sonographieatlas Erlangen
URL;VALUE=URI:https://ceuscampus.de/?p=4250
DESCRIPTION:https://ceuscampus.de/?p=4250
UID:20260420T142144--
END:VEVENT
END:VCALENDAR