BEGIN:VCALENDAR
VERSION:2.0
PRODID:-//ceuscampus//ceuscampus.de//DE
CALSCALE:GREGORIAN
BEGIN:VEVENT
DTSTART:
DTEND:
LOCATION:
DTSTAMP:20260420T131131
SUMMARY:Ultraschallausbildung mittels Fusion und Navigation
URL;VALUE=URI:https://ceuscampus.de/?p=556
DESCRIPTION:https://ceuscampus.de/?p=556
UID:20260420T131131--
END:VEVENT
END:VCALENDAR