BEGIN:VCALENDAR
VERSION:2.0
PRODID:-//ceuscampus//ceuscampus.de//DE
CALSCALE:GREGORIAN
BEGIN:VEVENT
DTSTART:20260908T153000
DTEND:20260908T190000
LOCATION:
DTSTAMP:20260420T142456
SUMMARY:Webinar Kontrastsonographie – CEUS Modul 1, Teil 1 – zertifiziert nach DEGUM
URL;VALUE=URI:https://ceuscampus.de/?p=4991
DESCRIPTION:https://ceuscampus.de/?p=4991
UID:20260420T142456-20260908T153000-
END:VEVENT
END:VCALENDAR