BEGIN:VCALENDAR
VERSION:2.0
PRODID:-//ceuscampus//ceuscampus.de//DE
CALSCALE:GREGORIAN
BEGIN:VEVENT
DTSTART:20261006T153000
DTEND:20261006T190000
LOCATION:
DTSTAMP:20260420T142936
SUMMARY:Webinar Kontrastsonographie – CEUS Modul 1, Teil 2 – zertifiziert nach DEGUM
URL;VALUE=URI:https://ceuscampus.de/?p=4996
DESCRIPTION:https://ceuscampus.de/?p=4996
UID:20260420T142936-20261006T153000-
END:VEVENT
END:VCALENDAR