BEGIN:VCALENDAR
VERSION:2.0
PRODID:-//ceuscampus//ceuscampus.de//DE
CALSCALE:GREGORIAN
BEGIN:VEVENT
DTSTART:20261110T153000
DTEND:20261110T190000
LOCATION:
DTSTAMP:20260422T085259
SUMMARY:Webinar Kontrastsonographie – CEUS Modul 2, Teil 1 – zertifiziert nach DEGUM
URL;VALUE=URI:https://ceuscampus.de/?p=4998
DESCRIPTION:https://ceuscampus.de/?p=4998
UID:20260422T085259-20261110T153000-
END:VEVENT
END:VCALENDAR