BEGIN:VCALENDAR
VERSION:2.0
PRODID:-//ceuscampus//ceuscampus.de//DE
CALSCALE:GREGORIAN
BEGIN:VEVENT
DTSTART:20261215T153000
DTEND:20261215T190000
LOCATION:
DTSTAMP:20260420T143350
SUMMARY:Webinar Kontrastsonographie – CEUS Modul 2, Teil 2 – zertifiziert nach DEGUM
URL;VALUE=URI:https://ceuscampus.de/?p=5001
DESCRIPTION:https://ceuscampus.de/?p=5001
UID:20260420T143350-20261215T153000-
END:VEVENT
END:VCALENDAR