BEGIN:VCALENDAR
VERSION:2.0
PRODID:-//ceuscampus//ceuscampus.de//DE
CALSCALE:GREGORIAN
BEGIN:VEVENT
DTSTART:20260521T133000
DTEND:20260522T143000
LOCATION:
DTSTAMP:20260420T125352
SUMMARY:Workshop &#8211; CEUS Module 1&#038;2
URL;VALUE=URI:https://ceuscampus.de/?p=4978
DESCRIPTION:https://ceuscampus.de/?p=4978
UID:20260420T125352-20260521T133000-
END:VEVENT
END:VCALENDAR